BEGIN:VCALENDAR
VERSION:2.0
PRODID:-//maltcommodes - ECPv4.7.3//NONSGML v1.0//EN
CALSCALE:GREGORIAN
METHOD:PUBLISH
X-WR-CALNAME:maltcommodes
X-ORIGINAL-URL:https://lesmaltcommodes.com
X-WR-CALDESC:Évènements pour maltcommodes
BEGIN:VEVENT
DTSTART;TZID=America/Toronto:20260508T220000
DTEND;TZID=America/Toronto:20260508T220000
DTSTAMP:20260419T123513
CREATED:20260413T115632Z
LAST-MODIFIED:20260413T115636Z
UID:9821-1778277600-1778277600@lesmaltcommodes.com
SUMMARY:ALL YOU CAN HEAR
DESCRIPTION:FacebookTwitterGoogleImprimer\n\n	Articles similaires\n
URL:https://lesmaltcommodes.com/evenement/all-you-can-hear-3/
LOCATION:Les Maltcommodes\, 3333 rue du Carrefour\, Québec\, Québec\, G1C5R9\, Canada
END:VEVENT
END:VCALENDAR