BEGIN:VCALENDAR
VERSION:2.0
PRODID:-//maltcommodes - ECPv4.7.3//NONSGML v1.0//EN
CALSCALE:GREGORIAN
METHOD:PUBLISH
X-WR-CALNAME:maltcommodes
X-ORIGINAL-URL:https://lesmaltcommodes.com
X-WR-CALDESC:Évènements pour maltcommodes
BEGIN:VEVENT
DTSTART;TZID=America/Toronto:20260514T193000
DTEND;TZID=America/Toronto:20260514T193000
DTSTAMP:20260419T153749
CREATED:20260413T115840Z
LAST-MODIFIED:20260413T115858Z
UID:9825-1778787000-1778787000@lesmaltcommodes.com
SUMMARY:BENOIT PLAMONDON
DESCRIPTION:FacebookTwitterGoogleImprimer\n\n	Articles similaires\n
URL:https://lesmaltcommodes.com/evenement/benoit-plamondon-8/
LOCATION:Les Maltcommodes\, 3333 rue du Carrefour\, Québec\, Québec\, G1C5R9\, Canada
END:VEVENT
END:VCALENDAR