BEGIN:VCALENDAR
VERSION:2.0
PRODID:-//maltcommodes - ECPv4.7.3//NONSGML v1.0//EN
CALSCALE:GREGORIAN
METHOD:PUBLISH
X-WR-CALNAME:maltcommodes
X-ORIGINAL-URL:https://lesmaltcommodes.com
X-WR-CALDESC:Évènements pour maltcommodes
BEGIN:VEVENT
DTSTART;TZID=America/Toronto:20260411T220000
DTEND;TZID=America/Toronto:20260411T220000
DTSTAMP:20260419T123808
CREATED:20260413T113052Z
LAST-MODIFIED:20260413T113052Z
UID:9801-1775944800-1775944800@lesmaltcommodes.com
SUMMARY:EVOLUTION ROCK BAND
DESCRIPTION:FacebookTwitterGoogleImprimer\n\n	Articles similaires\n
URL:https://lesmaltcommodes.com/evenement/evolution-rock-band-4/
LOCATION:Les Maltcommodes\, 3333 rue du Carrefour\, Québec\, Québec\, G1C5R9\, Canada
END:VEVENT
END:VCALENDAR