BEGIN:VCALENDAR
VERSION:2.0
PRODID:-//maltcommodes - ECPv4.7.3//NONSGML v1.0//EN
CALSCALE:GREGORIAN
METHOD:PUBLISH
X-WR-CALNAME:maltcommodes
X-ORIGINAL-URL:https://lesmaltcommodes.com
X-WR-CALDESC:Évènements pour maltcommodes
BEGIN:VEVENT
DTSTART;TZID=America/Toronto:20250104T220000
DTEND;TZID=America/Toronto:20250104T220000
DTSTAMP:20260421T012630
CREATED:20241209T144907Z
LAST-MODIFIED:20241209T144907Z
UID:7512-1736028000-1736028000@lesmaltcommodes.com
SUMMARY:LAPOINTE EXPERIENCE
DESCRIPTION:FacebookTwitterGoogleImprimer\n\n	Articles similaires\n
URL:https://lesmaltcommodes.com/evenement/lapointe-experience/
LOCATION:Les Maltcommodes\, 3333 rue du Carrefour\, Québec\, Québec\, G1C5R9\, Canada
ATTACH;FMTTYPE=image/png:https://lesmaltcommodes.com/wp-content/uploads/2024/12/4janvier-EricLapointe_EVENT.png
END:VEVENT
END:VCALENDAR